{"text_format":"1","workbook":"xlsx","n_sheets":1,"sheets":["青県中書式22（研究費）"],"not_rendered":{"charts":0,"images":0,"macros":1,"external_links":1,"defined_names":4,"comments":0,"pivot_tables":0},"unopened":[],"bounds":{"document_bytes":16777216,"sheet_cells":100000,"rows_first":2000,"rows_last":500,"rows_between":2000,"halvings":0,"cell_chars":16384,"cell_head_chars":4096},"cells_cut":0,"cells_raw":0,"read":"whole","date_system":"1900"}

{"sheet":"青県中書式22（研究費）","index":0,"n_rows":31,"n_cols":8,"rows_kept":31,"cut":false,"hidden":false,"merged":[[29,0,29,1],[29,2,29,7],[30,0,30,1],[30,2,30,4],[30,5,30,6],[0,0,0,7],[1,0,3,1],[1,2,3,2],[1,3,1,5],[1,6,3,6],[1,7,3,7]]}
["青県中治験書式２２（再生医療等製品）　臨床試験研究経費ポイント算出表"]
["要             素",null,"倍\n率","カテゴリ",null,null,"選択\n/\n入力","ポ\nイ\nン\nト"]
[null,null,null,"Ⅰ","Ⅱ","Ⅲ"]
[null,null,null,"（ウェイト×１）","（ウェイト×３）","（ウェイト×５）"]
["Ａ","対象疾患の重篤度",2,"軽度","中等度","重症又は重篤",null,{"$f":"IF(G5=\"\",\"\",IF(G5=\"Ⅰ\",1,IF(G5=\"Ⅱ\",3,IF(G5=\"Ⅲ\",5,IF(AND(G5<>\"\",#REF!=\"\"),G5,#REF!))))*C5)","v":""}]
["Ｂ","入院・外来の別",1,"外来","入院",null,null,{"$f":"IF(G6=\"\",\"\",IF(G6=\"Ⅰ\",1,IF(G6=\"Ⅱ\",3,IF(G6=\"Ⅲ\",5,IF(AND(G6<>\"\",#REF!=\"\"),G6,#REF!))))*C6)","v":""}]
["Ｃ","治験製品製造承認の状況",2,"他の適応に\n国内で承認","同一適応に\n欧米で承認","未承認",null,{"$f":"IF(G7=\"\",\"\",IF(G7=\"Ⅰ\",1,IF(G7=\"Ⅱ\",3,IF(G7=\"Ⅲ\",5,IF(AND(G7<>\"\",#REF!=\"\"),G7,#REF!))))*C7)","v":""}]
["Ｄ","デザイン（盲検）",2,"オープン","単盲検","二重盲検",null,{"$f":"IF(G8=\"\",\"\",IF(G8=\"Ⅰ\",1,IF(G8=\"Ⅱ\",3,IF(G8=\"Ⅲ\",5,IF(AND(G8<>\"\",#REF!=\"\"),G8,#REF!))))*C8)","v":""}]
["Ｅ","デザイン（対照製品）",3,"対照製品あり",null,null,null,{"$f":"IF(G9=\"\",\"\",IF(G9=\"Ⅰ\",1,IF(G9=\"Ⅱ\",3,IF(G9=\"Ⅲ\",5,IF(AND(G9<>\"\",#REF!=\"\"),G9,#REF!))))*C9)","v":""}]
["Ｆ","治験製品の１症例あたりの投与期間",2,"4週間以内","5～24週","25週以上",null,{"$f":"IF(G10=\"\",\"\",IF(G10=\"Ⅰ\",1,IF(G10=\"Ⅱ\",3,IF(G10=\"Ⅲ\",5,IF(AND(G10<>\"\",#REF!=\"\"),G10,#REF!))))*C10)","v":""}]
["Ｇ","治験製品の１症例あたりの投与期間\n（49週以降・12週毎計上）",1,{"$f":"\"×（治験製品投与期間【\"&IF(G11=\"\",\"右欄に入力してください\",G11&\"週\")&\"】－48週)÷12　※端数切上\"","v":"×（治験製品投与期間【右欄に入力してください】－48週)÷12　※端数切上"},null,null,null,{"$f":"IF(G11=0,\"\",ROUNDUP((G11-48)/12,0))","v":""}]
["Ｈ","被験者層",1,"18歳以上","小児・18歳以上\n（高齢者、肝、\n腎障害等合併有）","乳児・新生児",null,{"$f":"IF(G12=\"\",\"\",IF(G12=\"Ⅰ\",1,IF(G12=\"Ⅱ\",3,IF(G12=\"Ⅲ\",5,IF(AND(G12<>\"\",#REF!=\"\"),G12,#REF!))))*C12)","v":""}]
["Ｉ","被験者の選出\n（適格＋除外基準数）",1,"19以下","20～29","30以上",null,{"$f":"IF(G13=\"\",\"\",IF(G13=\"Ⅰ\",1,IF(G13=\"Ⅱ\",3,IF(G13=\"Ⅲ\",5,IF(AND(G13<>\"\",#REF!=\"\"),G13,#REF!))))*C13)","v":""}]
["Ｊ","予定Visit数\n（2回毎計上）",1,{"$f":"\"×予定visit数【\"&IF(G14=\"\",\"右欄に入力してください\",G14&\"回\")&\"】÷2　※端数切上\"","v":"×予定visit数【右欄に入力してください】÷2　※端数切上"}]
["Ｋ","臨床症状観察項目数",1,"4以下","5～9","10以上",null,{"$f":"IF(G15=\"\",\"\",IF(G15=\"Ⅰ\",1,IF(G15=\"Ⅱ\",3,IF(G15=\"Ⅲ\",5,IF(AND(G15<>\"\",#REF!=\"\"),G15,#REF!))))*C15)","v":""}]
["Ｌ","臨床症状観察項目数\n（11項目以上・15項目毎計上）",2,{"$f":"\"×（項目数総数【\"&IF(G16=\"\",\"右欄に入力してください\",G16&\"項目\")&\"】－10）÷15\"","v":"×（項目数総数【右欄に入力してください】－10）÷15"}]
["Ｍ","項目数の合計\n・一般的臨床検査\n・非侵襲的機能検査\n・画像診断",1,"49以下","50～99","100以上",null,{"$f":"IF(G17=\"\",\"\",IF(G17=\"Ⅰ\",1,IF(G17=\"Ⅱ\",3,IF(G17=\"Ⅲ\",5,IF(AND(G17<>\"\",#REF!=\"\"),G17,#REF!))))*C17)","v":""}]
["Ｎ","回数の合計\n・侵襲的機能検査\n・画像診断",3,{"$f":"\"×検査・撮影回数【\"&IF(G18=\"\",\"右欄に入力してください\",G18&\"回\")&\"】\"","v":"×検査・撮影回数【右欄に入力してください】"},null,null,null,{"$f":"IF(G18=0,\"\",C18*G18)","v":""}]
["Ｏ","特殊検査のための\n検体採取回数",2,{"$f":"\"×採取回数【\"&IF(G19=\"\",\"右欄に入力してください\",G19&\"回\")&\"】\"","v":"×採取回数【右欄に入力してください】"},null,null,null,{"$f":"IF(G19=0,\"\",C19*G19)","v":""}]
["Ｐ","生検回数",5,{"$f":"\"×生検回数【\"&IF(G20=\"\",\"右欄に入力してください\",G20&\"回\")&\"】\"","v":"×生検回数【右欄に入力してください】"},null,null,null,{"$f":"IF(G20=0,\"\",C20*G20)","v":""}]
["Ｑ","採取回数",3,{"$f":"\"×採取回数【\"&IF(G21=\"\",\"右欄に入力してください\",G21&\"回\")&\"】\"","v":"×採取回数【右欄に入力してください】"},null,null,null,{"$f":"IF(G21=0,\"\",C21*G21)","v":""}]
["Ｒ","組織採取方法の侵襲度",2,"軽度","中等度","高度",null,{"$f":"IF(G22=\"\",\"\",IF(G22=\"Ⅰ\",1,IF(G22=\"Ⅱ\",3,IF(G22=\"Ⅲ\",5,IF(AND(G22<>\"\",#REF!=\"\"),G22,#REF!))))*C22)","v":""}]
["Ｓ","投与経路",2,"外用","注射","手術を伴うもの",null,{"$f":"IF(G23=\"\",\"\",IF(G23=\"Ⅰ\",1,IF(G23=\"Ⅱ\",3,IF(G23=\"Ⅲ\",5,IF(AND(G23<>\"\",#REF!=\"\"),G23,#REF!))))*C23)","v":""}]
["Ｔ","加工処理",3,"採血（100ｍL未満）","採血（100ｍL以上）","髄液・組織採取",null,{"$f":"IF(G24=\"\",\"\",IF(G24=\"Ⅰ\",1,IF(G24=\"Ⅱ\",3,IF(G24=\"Ⅲ\",5,IF(AND(G24<>\"\",#REF!=\"\"),G24,#REF!))))*C24)","v":""}]
["Ｕ","国際共同治験",5,"該当",null,null,null,{"$f":"IF(G25=\"\",\"\",IF(G25=\"Ⅰ\",1,IF(G25=\"Ⅱ\",3,IF(G25=\"Ⅲ\",5,IF(AND(G25<>\"\",#REF!=\"\"),G25,#REF!))))*C25)","v":""}]
["Ｖ","ゲノム・遺伝子解析研究",3,"該当",null,null,null,{"$f":"IF(G26=\"\",\"\",IF(G26=\"Ⅰ\",1,IF(G26=\"Ⅱ\",3,IF(G26=\"Ⅲ\",5,IF(AND(G26<>\"\",#REF!=\"\"),G26,#REF!))))*C26)","v":""}]
["W","他科の治験分担医師",2,"1科","2科","3科以上",null,{"$f":"IF(G27=\"\",\"\",IF(G27=\"Ⅰ\",1,IF(G27=\"Ⅱ\",3,IF(G27=\"Ⅲ\",5,IF(AND(G27<>\"\",#REF!=\"\"),G27,#REF!))))*C27)","v":""}]
["X","トレーニング対象者",1,"治験責任医師","治験責任医師\n及び治験分担医師",null,null,{"$f":"IF(G28=\"\",\"\",IF(G28=\"Ⅰ\",1,IF(G28=\"Ⅱ\",3,IF(G28=\"Ⅲ\",5,IF(AND(G28<>\"\",#REF!=\"\"),G28,#REF!))))*C28)","v":""}]
["Y","その他",null,null,null,null,null,{"$f":"IF(G29=\"\",\"\",IF(G29=\"Ⅰ\",1,IF(G29=\"Ⅱ\",3,IF(G29=\"Ⅲ\",5,IF(AND(G29<>\"\",#REF!=\"\"),G29,#REF!))))*C29)","v":""}]
["合計ポイント数",null,{"$f":"SUM(H5:H29)","v":0}]
["試験の別",null,"治験",null,null,"（ポイント単価"]